BEGIN:VCALENDAR
VERSION:2.0
PRODID:-//Miasto i Gmina Ryn - ECPv6.15.12.2//NONSGML v1.0//EN
CALSCALE:GREGORIAN
METHOD:PUBLISH
X-WR-CALNAME:Miasto i Gmina Ryn
X-ORIGINAL-URL:https://miastoryn.pl
X-WR-CALDESC:Wydarzenia dla Miasto i Gmina Ryn
REFRESH-INTERVAL;VALUE=DURATION:PT1H
X-Robots-Tag:noindex
X-PUBLISHED-TTL:PT1H
BEGIN:VTIMEZONE
TZID:Europe/Warsaw
BEGIN:DAYLIGHT
TZOFFSETFROM:+0100
TZOFFSETTO:+0200
TZNAME:CEST
DTSTART:20220327T010000
END:DAYLIGHT
BEGIN:STANDARD
TZOFFSETFROM:+0200
TZOFFSETTO:+0100
TZNAME:CET
DTSTART:20221030T010000
END:STANDARD
BEGIN:DAYLIGHT
TZOFFSETFROM:+0100
TZOFFSETTO:+0200
TZNAME:CEST
DTSTART:20230326T010000
END:DAYLIGHT
BEGIN:STANDARD
TZOFFSETFROM:+0200
TZOFFSETTO:+0100
TZNAME:CET
DTSTART:20231029T010000
END:STANDARD
BEGIN:DAYLIGHT
TZOFFSETFROM:+0100
TZOFFSETTO:+0200
TZNAME:CEST
DTSTART:20240331T010000
END:DAYLIGHT
BEGIN:STANDARD
TZOFFSETFROM:+0200
TZOFFSETTO:+0100
TZNAME:CET
DTSTART:20241027T010000
END:STANDARD
BEGIN:DAYLIGHT
TZOFFSETFROM:+0100
TZOFFSETTO:+0200
TZNAME:CEST
DTSTART:20250330T010000
END:DAYLIGHT
BEGIN:STANDARD
TZOFFSETFROM:+0200
TZOFFSETTO:+0100
TZNAME:CET
DTSTART:20251026T010000
END:STANDARD
END:VTIMEZONE
BEGIN:VEVENT
DTSTART;TZID=Europe/Warsaw:20240923T160000
DTEND;TZID=Europe/Warsaw:20240929T180000
DTSTAMP:20260420T112120
CREATED:20240920T113947Z
LAST-MODIFIED:20240920T113947Z
UID:10352-1727107200-1727632800@miastoryn.pl
SUMMARY:Tydzień Miast Cittaslow
DESCRIPTION:
URL:https://miastoryn.pl/event/tydzien-miast-cittaslow/
LOCATION:Regionalny Park Edukacji\, Kultury i Turystyki\, Mikołaja Kopernika 16\, Ryn\, warmińsko - mazurskie\, 11-520\, Poland
END:VEVENT
BEGIN:VEVENT
DTSTART;TZID=Europe/Warsaw:20240907T130000
DTEND;TZID=Europe/Warsaw:20240907T210000
DTSTAMP:20260420T112120
CREATED:20240611T093347Z
LAST-MODIFIED:20240611T093416Z
UID:9554-1725714000-1725742800@miastoryn.pl
SUMMARY:Dożynki Gminne
DESCRIPTION:Dożynki\, Święto Plonów – ludowe święto połączone z obrzędami dziękczynnymi za ukończenie żniw i prac polowych w tym roku we wsi Ławki.
URL:https://miastoryn.pl/event/dozynki-gminne/
LOCATION:Ławki\, Ławki
END:VEVENT
BEGIN:VEVENT
DTSTART;TZID=Europe/Warsaw:20240809T110000
DTEND;TZID=Europe/Warsaw:20240811T180000
DTSTAMP:20260420T112120
CREATED:20240611T092529Z
LAST-MODIFIED:20240611T092529Z
UID:9551-1723201200-1723399200@miastoryn.pl
SUMMARY:Festiwal Kultury Średniowiecza MASURIA
DESCRIPTION:3 dni przepełnione średniowieczną kulturą\, pokazami walk rycerskich\, konkursami plebejskimi\, warsztatami rzemiosł dawnych\, jarmarkiem rękodzieła czy pokazem batalistycznym i wieloma innymi arcyciekawymi wydarzeniami.\nNasze miasteczko zmienia się w wielką średniowieczną osadę. W różnych jego częściach przez 3 dni odbywa się wiele ciekawych wydarzeń. Jest to niezwykła okazja do poznania dawnych obyczajów\, kultury i sposobu życia średniowiecznej ludności.\nW ramach Masurii 2024 odbędzie się wystawa poplenerowa – Ogólnopolskiego Pleneru Malarskiego MASURIA.
URL:https://miastoryn.pl/event/festiwal-kultury-sredniowiecza-masuria/
LOCATION:warmińsko - mazurskie
END:VEVENT
BEGIN:VEVENT
DTSTART;TZID=Europe/Warsaw:20240719T110000
DTEND;TZID=Europe/Warsaw:20240721T180000
DTSTAMP:20260420T112120
CREATED:20240611T092105Z
LAST-MODIFIED:20240611T092258Z
UID:9546-1721386800-1721584800@miastoryn.pl
SUMMARY:Dni Rynu
DESCRIPTION:Jak co roku w trzeci weekend lipca obchodzimy święto naszego miasta – DNI RYNU.\nW tym czasie zaplanowaliśmy moc kulturalnych i sportowych atrakcji takich jak: występy lokalnych zespołów\, wystawa\, kino plenerowe\, zagrają: Mała Orkiestra Dni Naszych i szantowy zespół Atlantyda\, a w trakcie sobotniego koncertu usłyszymy: Zespół KORZUH oraz niekwestionowaną gwiazdę muzyki reggae – Zespół BEDNAREK!\nNa miłośników sportów czeka IV Bieg Ryński o Puchar Burmistrza Miasta i Gminy Ryn\, w którym będą mogli wziąć udział zarówno dorośli jak i dzieci. Nie zabraknie również strefy z animacjamii dmuchańcami przeznaczonej dla najmłodszych!
URL:https://miastoryn.pl/event/dni-rynu/
LOCATION:warmińsko - mazurskie
END:VEVENT
BEGIN:VEVENT
DTSTART;TZID=Europe/Warsaw:20240706T100000
DTEND;TZID=Europe/Warsaw:20240707T180000
DTSTAMP:20260420T112120
CREATED:20240611T091643Z
LAST-MODIFIED:20240611T091643Z
UID:9543-1720260000-1720375200@miastoryn.pl
SUMMARY:Festiwal 5 Zmysłów
DESCRIPTION:
URL:https://miastoryn.pl/event/festiwal-5-zmyslow/
LOCATION:warmińsko - mazurskie
END:VEVENT
BEGIN:VEVENT
DTSTART;TZID=Europe/Warsaw:20240629T180000
DTEND;TZID=Europe/Warsaw:20240629T220000
DTSTAMP:20260420T112120
CREATED:20240611T090745Z
LAST-MODIFIED:20240611T091245Z
UID:9539-1719684000-1719698400@miastoryn.pl
SUMMARY:Eksplozja Kolorów
DESCRIPTION:
URL:https://miastoryn.pl/event/eksplozja-kolorow/
LOCATION:warmińsko - mazurskie
END:VEVENT
BEGIN:VEVENT
DTSTART;TZID=Europe/Warsaw:20240623T200000
DTEND;TZID=Europe/Warsaw:20240623T230000
DTSTAMP:20260420T112120
CREATED:20240611T090238Z
LAST-MODIFIED:20240611T092711Z
UID:9532-1719172800-1719183600@miastoryn.pl
SUMMARY:Noc Świętojańska nad Ołowiem
DESCRIPTION:
URL:https://miastoryn.pl/event/noc-swietojanska-nad-olowiem/
LOCATION:warmińsko - mazurskie
END:VEVENT
BEGIN:VEVENT
DTSTART;TZID=Europe/Warsaw:20231123T150000
DTEND;TZID=Europe/Warsaw:20231123T170000
DTSTAMP:20260420T112120
CREATED:20231115T090031Z
LAST-MODIFIED:20231115T090044Z
UID:8570-1700751600-1700758800@miastoryn.pl
SUMMARY:Gminne eliminacje do XXV Powiatowego przeglądu wokalnego ŚPIEWADŁO 2023
DESCRIPTION:
URL:https://miastoryn.pl/event/gminne-eliminacje-do-xxv-powiatowego-przegladu-wokalnego-spiewadlo-2023/
LOCATION:Sala widowiskowa RPEKiT
ATTACH;FMTTYPE=image/jpeg:https://miastoryn.pl/wp-content/uploads/2023/11/400139890_322771863721124_4420225869957018719_n.jpg
END:VEVENT
END:VCALENDAR